BEGIN:VCALENDAR
VERSION:2.0
METHOD:PUBLISH
BEGIN:VEVENT
DTSTART:20260528T153000Z
DTEND:20260530T210000Z
LOCATION:Lindsay, OK 73052 (Full address will be shown on Wed, May 27 12:00am)
TRANSP: OPAQUE
SEQUENCE:0
UID:
DTSTAMP:20260425T161531Z
SUMMARY:Super Sale in Lindsay
DESCRIPTION:Super Sale in Lindsay Master Key Estate Sales, LLP 
UID:1777155331
STREET-ADDRESS:See website
POSTAL-CODE:73052
LOCALITY:Lindsay
REGION:ABBREV=OK
COUNTRY:ABBREV=US;ABBREV=USA:United States
URL;TYPE=Event Listing:https://estatesales.org/estate-sales/ok/lindsay/73052/super-sale-in-lindsay-2437249
PRIORITY:1
CLASS:PUBLIC
SEQUENCE:0
STATUS:CONFIRMED
TRANSP:OPAQUE
END:VEVENT
END:VCALENDAR
