BEGIN:VCALENDAR
VERSION:2.0
METHOD:PUBLISH
BEGIN:VEVENT
DTSTART:20260528T130000Z
DTEND:20260530T190000Z
LOCATION:Macclenny, FL 32063 (Full address will be shown on Wed, May 27 12:00am)
TRANSP: OPAQUE
SEQUENCE:0
UID:
DTSTAMP:20260420T121108Z
SUMMARY:Finders Keepers estate sales don't miss this one
DESCRIPTION:Finders Keepers estate sales don't miss this one Finders Keepers Estate Sales 
UID:1776708668
STREET-ADDRESS:See website
POSTAL-CODE:32063
LOCALITY:Macclenny
REGION:ABBREV=FL
COUNTRY:ABBREV=US;ABBREV=USA:United States
URL;TYPE=Event Listing:https://estatesales.org/estate-sales/fl/macclenny/32063/finders-keepers-estate-sales-dont-2436139
PRIORITY:1
CLASS:PUBLIC
SEQUENCE:0
STATUS:CONFIRMED
TRANSP:OPAQUE
END:VEVENT
END:VCALENDAR
