BEGIN:VCALENDAR
VERSION:2.0
METHOD:PUBLISH
BEGIN:VEVENT
DTSTART:20230528T150000Z
DTEND:20230528T190000Z
LOCATION:Bakersfield, CA 93309
TRANSP: OPAQUE
SEQUENCE:0
UID:
DTSTAMP:20260422T120331Z
SUMMARY:ONE MORE DAY 50 % off Bakersfield
DESCRIPTION:ONE MORE DAY 50 % off Bakersfield Complete Estate Management 
UID:1776881011
STREET-ADDRESS:See website
POSTAL-CODE:93309
LOCALITY:Bakersfield
REGION:ABBREV=CA
COUNTRY:ABBREV=US;ABBREV=USA:United States
URL;TYPE=Event Listing:https://estatesales.org/estate-sales/ca/bakersfield/93309/one-more-day-50-off-2187815
PRIORITY:1
CLASS:PUBLIC
SEQUENCE:0
STATUS:CONFIRMED
TRANSP:OPAQUE
END:VEVENT
END:VCALENDAR
