BEGIN:VCALENDAR
VERSION:2.0
METHOD:PUBLISH
BEGIN:VEVENT
DTSTART:20210528T180000Z
DTEND:20210530T220000Z
LOCATION:Sherwood, OR 97140
TRANSP: OPAQUE
SEQUENCE:0
UID:
DTSTAMP:20260424T115645Z
SUMMARY:Hendrik Sharples, LLC Sherwood OR  Estate Sale
DESCRIPTION:Hendrik Sharples, LLC Sherwood OR  Estate Sale Hendrik Sharples, LLC 
UID:1777053405
STREET-ADDRESS:See website
POSTAL-CODE:97140
LOCALITY:Sherwood
REGION:ABBREV=OR
COUNTRY:ABBREV=US;ABBREV=USA:United States
URL;TYPE=Event Listing:https://estatesales.org/estate-sales/or/sherwood/97140/hendrik-sharples-llc-sherwood-or-1908649
PRIORITY:1
CLASS:PUBLIC
SEQUENCE:0
STATUS:CONFIRMED
TRANSP:OPAQUE
END:VEVENT
END:VCALENDAR
