BEGIN:VCALENDAR
VERSION:2.0
METHOD:PUBLISH
BEGIN:VEVENT
DTSTART:20210528T120000Z
DTEND:20210601T220000Z
LOCATION:Springfield, MO 65802
TRANSP: OPAQUE
SEQUENCE:0
UID:
DTSTAMP:20260419T181855Z
SUMMARY:Going out of business sale extension
DESCRIPTION:Going out of business sale extension Above and Beyond estate sales 
UID:1776644335
STREET-ADDRESS:See website
POSTAL-CODE:65802
LOCALITY:Springfield
REGION:ABBREV=MO
COUNTRY:ABBREV=US;ABBREV=USA:United States
URL;TYPE=Event Listing:https://estatesales.org/estate-sales/mo/springfield/65802/going-out-of-business-sale-1909793
PRIORITY:1
CLASS:PUBLIC
SEQUENCE:0
STATUS:CONFIRMED
TRANSP:OPAQUE
END:VEVENT
END:VCALENDAR
