BEGIN:VCALENDAR
VERSION:2.0
METHOD:PUBLISH
BEGIN:VEVENT
DTSTART:20230527T130000Z
DTEND:20230528T190000Z
LOCATION:Hillsborough Township, NJ 08844
TRANSP: OPAQUE
SEQUENCE:0
UID:
DTSTAMP:20260425T203555Z
SUMMARY:A Dusty Old Bag is in Hillsborough for a Packed Sale
DESCRIPTION:A Dusty Old Bag is in Hillsborough for a Packed Sale A Dusty Old Bag  
UID:1777170955
STREET-ADDRESS:See website
POSTAL-CODE:08844
LOCALITY:Hillsborough Township
REGION:ABBREV=NJ
COUNTRY:ABBREV=US;ABBREV=USA:United States
URL;TYPE=Event Listing:https://estatesales.org/estate-sales/nj/hillsborough-township/08844/a-dusty-old-bag-is-2167831
PRIORITY:1
CLASS:PUBLIC
SEQUENCE:0
STATUS:CONFIRMED
TRANSP:OPAQUE
END:VEVENT
END:VCALENDAR
