BEGIN:VCALENDAR
VERSION:2.0
METHOD:PUBLISH
BEGIN:VEVENT
DTSTART:20230527T150000Z
DTEND:20230527T210000Z
LOCATION:Bakersfield, CA 93309
TRANSP: OPAQUE
SEQUENCE:0
UID:
DTSTAMP:20260422T120355Z
SUMMARY:Estate Sale 50 % Off Saturday Only!
DESCRIPTION:Estate Sale 50 % Off Saturday Only! Complete Estate Management 
UID:1776881035
STREET-ADDRESS:See website
POSTAL-CODE:93309
LOCALITY:Bakersfield
REGION:ABBREV=CA
COUNTRY:ABBREV=US;ABBREV=USA:United States
URL;TYPE=Event Listing:https://estatesales.org/estate-sales/ca/bakersfield-/93309/estate-sale-50-off-saturday-2185977
PRIORITY:1
CLASS:PUBLIC
SEQUENCE:0
STATUS:CONFIRMED
TRANSP:OPAQUE
END:VEVENT
END:VCALENDAR
