BEGIN:VCALENDAR
VERSION:2.0
METHOD:PUBLISH
BEGIN:VEVENT
DTSTART:20230526T130000Z
DTEND:20230527T180000Z
LOCATION:Providence, RI 02908
TRANSP: OPAQUE
SEQUENCE:0
UID:
DTSTAMP:20260420T012552Z
SUMMARY:Vintage Providence Estate Sale
DESCRIPTION:Vintage Providence Estate Sale Hidden Treasures Estate Sales & Cleanouts 
UID:1776669952
STREET-ADDRESS:See website
POSTAL-CODE:02908
LOCALITY:Providence
REGION:ABBREV=RI
COUNTRY:ABBREV=US;ABBREV=USA:United States
URL;TYPE=Event Listing:https://estatesales.org/estate-sales/ri/providence/02908/vintage-providence-estate-sale-2183309
PRIORITY:1
CLASS:PUBLIC
SEQUENCE:0
STATUS:CONFIRMED
TRANSP:OPAQUE
END:VEVENT
END:VCALENDAR
