BEGIN:VCALENDAR
VERSION:2.0
METHOD:PUBLISH
BEGIN:VEVENT
DTSTART:20220526T140000Z
DTEND:20220527T190000Z
LOCATION:Buffalo Grove, IL 60089
TRANSP: OPAQUE
SEQUENCE:0
UID:
DTSTAMP:20260425T144047Z
SUMMARY:Grasons of NW Chicagoland high quality estate sale
DESCRIPTION:Grasons of NW Chicagoland high quality estate sale Grasons Co of NW Chicagoland 
UID:1777149647
STREET-ADDRESS:See website
POSTAL-CODE:60089
LOCALITY:Buffalo Grove
REGION:ABBREV=IL
COUNTRY:ABBREV=US;ABBREV=USA:United States
URL;TYPE=Event Listing:https://estatesales.org/estate-sales/il/buffalo-grove/60089/grasons-of-nw-chicagoland-high-2022335
PRIORITY:1
CLASS:PUBLIC
SEQUENCE:0
STATUS:CONFIRMED
TRANSP:OPAQUE
END:VEVENT
END:VCALENDAR
