BEGIN:VCALENDAR
VERSION:2.0
METHOD:PUBLISH
BEGIN:VEVENT
DTSTART:20170526T170000Z
DTEND:20170528T200000Z
LOCATION:Sonoma, CA 95476
TRANSP: OPAQUE
SEQUENCE:0
UID:
DTSTAMP:20260421T124127Z
SUMMARY:HUGE MOVING SALE! ALL ITEMS  50% OFF!!! 
DESCRIPTION:HUGE MOVING SALE! ALL ITEMS  50% OFF!!!  The Mystic & The Monk 
UID:1776796887
STREET-ADDRESS:See website
POSTAL-CODE:95476
LOCALITY:Sonoma
REGION:ABBREV=CA
COUNTRY:ABBREV=US;ABBREV=USA:United States
URL;TYPE=Event Listing:https://estatesales.org/estate-sales/ca/sonoma/95476/huge-moving-sale-all-items-1214577
PRIORITY:1
CLASS:PUBLIC
SEQUENCE:0
STATUS:CONFIRMED
TRANSP:OPAQUE
END:VEVENT
END:VCALENDAR
