BEGIN:VCALENDAR
VERSION:2.0
METHOD:PUBLISH
BEGIN:VEVENT
DTSTART:20160526T130000Z
DTEND:20160531T020000Z
LOCATION:Virginia Beach, VA 23451
TRANSP: OPAQUE
SEQUENCE:0
UID:
DTSTAMP:20260424T115756Z
SUMMARY:Virginia Beach Estate -On-Line Auction
DESCRIPTION:Virginia Beach Estate -On-Line Auction United Country-A.B. Cole & Associates 
UID:1777053476
STREET-ADDRESS:See website
POSTAL-CODE:23451
LOCALITY:Virginia Beach
REGION:ABBREV=VA
COUNTRY:ABBREV=US;ABBREV=USA:United States
URL;TYPE=Event Listing:https://estatesales.org/estate-sales/va/virginia-beach/23451/virginia-beach-estate-online-auction-857591
PRIORITY:1
CLASS:PUBLIC
SEQUENCE:0
STATUS:CONFIRMED
TRANSP:OPAQUE
END:VEVENT
END:VCALENDAR
