BEGIN:VCALENDAR
VERSION:2.0
METHOD:PUBLISH
BEGIN:VEVENT
DTSTART:20240525T160000Z
DTEND:20240526T210000Z
LOCATION:Santa Cruz, CA 95065
TRANSP: OPAQUE
SEQUENCE:0
UID:
DTSTAMP:20260421T211210Z
SUMMARY:MASSIVE In-Person Estate Sale Multi-Generational Home in Live Oak by Hammydownz
DESCRIPTION:MASSIVE In-Person Estate Sale Multi-Generational Home in Live Oak by Hammydownz Hammydownz 
UID:1776827530
STREET-ADDRESS:See website
POSTAL-CODE:95065
LOCALITY:Santa Cruz
REGION:ABBREV=CA
COUNTRY:ABBREV=US;ABBREV=USA:United States
URL;TYPE=Event Listing:https://estatesales.org/estate-sales/ca/santa-cruz/95065/massive-inperson-estate-sale-multigenerational-2317155
PRIORITY:1
CLASS:PUBLIC
SEQUENCE:0
STATUS:CONFIRMED
TRANSP:OPAQUE
END:VEVENT
END:VCALENDAR
