BEGIN:VCALENDAR
VERSION:2.0
METHOD:PUBLISH
BEGIN:VEVENT
DTSTART:20230525T153000Z
DTEND:20230528T210000Z
LOCATION:Bakersfield, CA 93309
TRANSP: OPAQUE
SEQUENCE:0
UID:
DTSTAMP:20260422T033612Z
SUMMARY:Mid century in Quailwood 
DESCRIPTION:Mid century in Quailwood  All About You Liquidation 
UID:1776850572
STREET-ADDRESS:See website
POSTAL-CODE:93309
LOCALITY:Bakersfield
REGION:ABBREV=CA
COUNTRY:ABBREV=US;ABBREV=USA:United States
URL;TYPE=Event Listing:https://estatesales.org/estate-sales/ca/bakersfield/93309/mid-century-in-quailwood-2185289
PRIORITY:1
CLASS:PUBLIC
SEQUENCE:0
STATUS:CONFIRMED
TRANSP:OPAQUE
END:VEVENT
END:VCALENDAR
