BEGIN:VCALENDAR
VERSION:2.0
METHOD:PUBLISH
BEGIN:VEVENT
DTSTART:20230525T150000Z
DTEND:20230527T200000Z
LOCATION:Rancho Cucamonga, CA 91730
TRANSP: OPAQUE
SEQUENCE:0
UID:
DTSTAMP:20260425T045207Z
SUMMARY:Estate sale by Next Step in Rancho Cucamonga
DESCRIPTION:Estate sale by Next Step in Rancho Cucamonga Next Step Estate Sales 
UID:1777114327
STREET-ADDRESS:See website
POSTAL-CODE:91730
LOCALITY:Rancho Cucamonga
REGION:ABBREV=CA
COUNTRY:ABBREV=US;ABBREV=USA:United States
URL;TYPE=Event Listing:https://estatesales.org/estate-sales/ca/rancho-cucamonga/91730/estate-sale-by-next-step-2185741
PRIORITY:1
CLASS:PUBLIC
SEQUENCE:0
STATUS:CONFIRMED
TRANSP:OPAQUE
END:VEVENT
END:VCALENDAR
