BEGIN:VCALENDAR
VERSION:2.0
METHOD:PUBLISH
BEGIN:VEVENT
DTSTART:20180525T130000Z
DTEND:20180526T180000Z
LOCATION:Aiken, SC 29803
TRANSP: OPAQUE
SEQUENCE:0
UID:
DTSTAMP:20260419T113746Z
SUMMARY:Glenwood Subdivision Estate Sale
DESCRIPTION:Glenwood Subdivision Estate Sale Barbara Ring Estate Sales 
UID:1776620266
STREET-ADDRESS:See website
POSTAL-CODE:29803
LOCALITY:Aiken
REGION:ABBREV=SC
COUNTRY:ABBREV=US;ABBREV=USA:United States
URL;TYPE=Event Listing:https://estatesales.org/estate-sales/sc/aiken/29803/glenwood-subdivision-estate-sale-1516663
PRIORITY:1
CLASS:PUBLIC
SEQUENCE:0
STATUS:CONFIRMED
TRANSP:OPAQUE
END:VEVENT
END:VCALENDAR
