BEGIN:VCALENDAR
VERSION:2.0
METHOD:PUBLISH
BEGIN:VEVENT
DTSTART:20160525T140000Z
DTEND:20160527T160000Z
LOCATION:Roseville, MI 48066
TRANSP: OPAQUE
SEQUENCE:0
UID:
DTSTAMP:20260421T055302Z
SUMMARY:3 Day Sale on Rymal Street in Roseville, MI. Everything must be sold!!!!
DESCRIPTION:3 Day Sale on Rymal Street in Roseville, MI. Everything must be sold!!!! Caring Transitions of Oakland County MI 
UID:1776772382
STREET-ADDRESS:See website
POSTAL-CODE:48066
LOCALITY:Roseville
REGION:ABBREV=MI
COUNTRY:ABBREV=US;ABBREV=USA:United States
URL;TYPE=Event Listing:https://estatesales.org/estate-sales/mi/roseville/48066/3-day-sale-on-rymal-861867
PRIORITY:1
CLASS:PUBLIC
SEQUENCE:0
STATUS:CONFIRMED
TRANSP:OPAQUE
END:VEVENT
END:VCALENDAR
