BEGIN:VCALENDAR
VERSION:2.0
METHOD:PUBLISH
BEGIN:VEVENT
DTSTART:20240524T153000Z
DTEND:20240525T203000Z
LOCATION:Valrico, FL 33596
TRANSP: OPAQUE
SEQUENCE:0
UID:
DTSTAMP:20260421T144556Z
SUMMARY:Friday and Saturday Part 3 Valrico Estate Sale
DESCRIPTION:Friday and Saturday Part 3 Valrico Estate Sale Done Deal Estate Sales and Appraisals, LLC 
UID:1776804356
STREET-ADDRESS:See website
POSTAL-CODE:33596
LOCALITY:Valrico
REGION:ABBREV=FL
COUNTRY:ABBREV=US;ABBREV=USA:United States
URL;TYPE=Event Listing:https://estatesales.org/estate-sales/fl/valrico/33596/friday-and-saturday-part-3-2317393
PRIORITY:1
CLASS:PUBLIC
SEQUENCE:0
STATUS:CONFIRMED
TRANSP:OPAQUE
END:VEVENT
END:VCALENDAR
