BEGIN:VCALENDAR
VERSION:2.0
METHOD:PUBLISH
BEGIN:VEVENT
DTSTART:20240524T150000Z
DTEND:20240525T210000Z
LOCATION:Carson, CA 90746
TRANSP: OPAQUE
SEQUENCE:0
UID:
DTSTAMP:20260425T054145Z
SUMMARY:Gold Coast’s Fantastic Sale in Carson
DESCRIPTION:Gold Coast’s Fantastic Sale in Carson Gold Coast Estate Sales 
UID:1777117305
STREET-ADDRESS:See website
POSTAL-CODE:90746
LOCALITY:Carson
REGION:ABBREV=CA
COUNTRY:ABBREV=US;ABBREV=USA:United States
URL;TYPE=Event Listing:https://estatesales.org/estate-sales/ca/carson/90746/gold-coasts-fantastic-sale-in-2317039
PRIORITY:1
CLASS:PUBLIC
SEQUENCE:0
STATUS:CONFIRMED
TRANSP:OPAQUE
END:VEVENT
END:VCALENDAR
