BEGIN:VCALENDAR
VERSION:2.0
METHOD:PUBLISH
BEGIN:VEVENT
DTSTART:20180524T140000Z
DTEND:20180527T190000Z
LOCATION:Round Hill, VA 20141
TRANSP: OPAQUE
SEQUENCE:0
UID:
DTSTAMP:20260424T133609Z
SUMMARY:MEMORIAL DAY MANSION SALE
DESCRIPTION:MEMORIAL DAY MANSION SALE Great Estate Solutions 
UID:1777059369
STREET-ADDRESS:See website
POSTAL-CODE:20141
LOCALITY:Round Hill
REGION:ABBREV=VA
COUNTRY:ABBREV=US;ABBREV=USA:United States
URL;TYPE=Event Listing:https://estatesales.org/estate-sales/va/round-hill/20141/memorial-day-mansion-sale-1516495
PRIORITY:1
CLASS:PUBLIC
SEQUENCE:0
STATUS:CONFIRMED
TRANSP:OPAQUE
END:VEVENT
END:VCALENDAR
