BEGIN:VCALENDAR
VERSION:2.0
METHOD:PUBLISH
BEGIN:VEVENT
DTSTART:20180524T223000Z
DTEND:20180525T020000Z
LOCATION:Watertown, WI 53094
TRANSP: OPAQUE
SEQUENCE:0
UID:
DTSTAMP:20260422T025842Z
SUMMARY:Thursday May 24th, 2018
DESCRIPTION:Thursday May 24th, 2018 Premium Estates 
UID:1776848322
STREET-ADDRESS:See website
POSTAL-CODE:53094
LOCALITY:Watertown
REGION:ABBREV=WI
COUNTRY:ABBREV=US;ABBREV=USA:United States
URL;TYPE=Event Listing:https://estatesales.org/estate-sales/wi/watertown/53094/thursday-may-24th-2018-1510649
PRIORITY:1
CLASS:PUBLIC
SEQUENCE:0
STATUS:CONFIRMED
TRANSP:OPAQUE
END:VEVENT
END:VCALENDAR
