BEGIN:VCALENDAR
VERSION:2.0
METHOD:PUBLISH
BEGIN:VEVENT
DTSTART:20250523T160000Z
DTEND:20250525T200000Z
LOCATION:Springville, CA 93265
TRANSP: OPAQUE
SEQUENCE:0
UID:
DTSTAMP:20260422T045948Z
SUMMARY:Springville Antique & Vintage Estate Sale
DESCRIPTION:Springville Antique & Vintage Estate Sale Golden Estate Sales 
UID:1776855588
STREET-ADDRESS:See website
POSTAL-CODE:93265
LOCALITY:Springville
REGION:ABBREV=CA
COUNTRY:ABBREV=US;ABBREV=USA:United States
URL;TYPE=Event Listing:https://estatesales.org/estate-sales/ca/springville/93265/springville-antique-vintage-estate-sale-2379149
PRIORITY:1
CLASS:PUBLIC
SEQUENCE:0
STATUS:CONFIRMED
TRANSP:OPAQUE
END:VEVENT
END:VCALENDAR
