BEGIN:VCALENDAR
VERSION:2.0
METHOD:PUBLISH
BEGIN:VEVENT
DTSTART:20250523T150000Z
DTEND:20250524T190000Z
LOCATION:Guthrie, OK 73044
TRANSP: OPAQUE
SEQUENCE:0
UID:
DTSTAMP:20260423T072627Z
SUMMARY:Packed Estate Sale with all new items
DESCRIPTION:Packed Estate Sale with all new items Vincent Estate Sales 
UID:1776950787
STREET-ADDRESS:See website
POSTAL-CODE:73044
LOCALITY:Guthrie
REGION:ABBREV=OK
COUNTRY:ABBREV=US;ABBREV=USA:United States
URL;TYPE=Event Listing:https://estatesales.org/estate-sales/ok/guthrie/73044/packed-estate-sale-with-all-2379925
PRIORITY:1
CLASS:PUBLIC
SEQUENCE:0
STATUS:CONFIRMED
TRANSP:OPAQUE
END:VEVENT
END:VCALENDAR
