BEGIN:VCALENDAR
VERSION:2.0
METHOD:PUBLISH
BEGIN:VEVENT
DTSTART:20250523T150000Z
DTEND:20250526T200000Z
LOCATION:Scottsdale, AZ 85258
TRANSP: OPAQUE
SEQUENCE:0
UID:
DTSTAMP:20260425T100408Z
SUMMARY:Scottsdale (Gainey Ranch) 8000 Sq Ft Home Estate Sale **50% OFF SUNDAY**
DESCRIPTION:Scottsdale (Gainey Ranch) 8000 Sq Ft Home Estate Sale **50% OFF SUNDAY** Fresh Start Estate Sales LLC 
UID:1777133048
STREET-ADDRESS:See website
POSTAL-CODE:85258
LOCALITY:Scottsdale
REGION:ABBREV=AZ
COUNTRY:ABBREV=US;ABBREV=USA:United States
URL;TYPE=Event Listing:https://estatesales.org/estate-sales/az/scottsdale/85258/scottsdale-gainey-ranch-8000-sq-2377721
PRIORITY:1
CLASS:PUBLIC
SEQUENCE:0
STATUS:CONFIRMED
TRANSP:OPAQUE
END:VEVENT
END:VCALENDAR
