BEGIN:VCALENDAR
VERSION:2.0
METHOD:PUBLISH
BEGIN:VEVENT
DTSTART:20250523T150000Z
DTEND:20250524T210000Z
LOCATION:Mesa, AZ 85207
TRANSP: OPAQUE
SEQUENCE:0
UID:
DTSTAMP:20260424T180638Z
SUMMARY:***EAST MESA ESTATE SALE***
DESCRIPTION:***EAST MESA ESTATE SALE*** Anderson Family Estate Sales & Services, LLC 
UID:1777075598
STREET-ADDRESS:See website
POSTAL-CODE:85207
LOCALITY:Mesa
REGION:ABBREV=AZ
COUNTRY:ABBREV=US;ABBREV=USA:United States
URL;TYPE=Event Listing:https://estatesales.org/estate-sales/az/mesa/85207/east-mesa-estate-sale-2374045
PRIORITY:1
CLASS:PUBLIC
SEQUENCE:0
STATUS:CONFIRMED
TRANSP:OPAQUE
END:VEVENT
END:VCALENDAR
