BEGIN:VCALENDAR
VERSION:2.0
METHOD:PUBLISH
BEGIN:VEVENT
DTSTART:20190523T123000Z
DTEND:20190525T200000Z
LOCATION:Jefferson, GA 30549
TRANSP: OPAQUE
SEQUENCE:0
UID:
DTSTAMP:20260419T113747Z
SUMMARY:Sweet Sale in Jefferson...We have it all!!
DESCRIPTION:Sweet Sale in Jefferson...We have it all!! Eleanors Estate Sales and Liquidators, LLC 
UID:1776620267
STREET-ADDRESS:See website
POSTAL-CODE:30549
LOCALITY:Jefferson
REGION:ABBREV=GA
COUNTRY:ABBREV=US;ABBREV=USA:United States
URL;TYPE=Event Listing:https://estatesales.org/estate-sales/ga/jefferson/30549/sweet-sale-in-jeffersonwe-have-1663429
PRIORITY:1
CLASS:PUBLIC
SEQUENCE:0
STATUS:CONFIRMED
TRANSP:OPAQUE
END:VEVENT
END:VCALENDAR
