BEGIN:VCALENDAR
VERSION:2.0
METHOD:PUBLISH
BEGIN:VEVENT
DTSTART:20190523T150000Z
DTEND:20190525T210000Z
LOCATION:Cypress, CA 90630
TRANSP: OPAQUE
SEQUENCE:0
UID:
DTSTAMP:20260420T172951Z
SUMMARY:50% Off Most Items TODAY- Cypress Total Liquidation ““ Mid-Century Modern, Vinyl & More Sale
DESCRIPTION:50% Off Most Items TODAY- Cypress Total Liquidation ““ Mid-Century Modern, Vinyl & More Sale Pointe Estate Specialists 
UID:1776727791
STREET-ADDRESS:See website
POSTAL-CODE:90630
LOCALITY:Cypress
REGION:ABBREV=CA
COUNTRY:ABBREV=US;ABBREV=USA:United States
URL;TYPE=Event Listing:https://estatesales.org/estate-sales/ca/cypress/90630/50-off-most-items-today-1657263
PRIORITY:1
CLASS:PUBLIC
SEQUENCE:0
STATUS:CONFIRMED
TRANSP:OPAQUE
END:VEVENT
END:VCALENDAR
