BEGIN:VCALENDAR
VERSION:2.0
METHOD:PUBLISH
BEGIN:VEVENT
DTSTART:20260522T140000Z
DTEND:20260523T200000Z
LOCATION:Oak Lawn, IL 60453 (Full address will be shown on Tue, May 19 12:00am)
TRANSP: OPAQUE
SEQUENCE:0
UID:
DTSTAMP:20260420T162014Z
SUMMARY:CAIT'S® Oak Lawn Estate Sale
DESCRIPTION:CAIT'S® Oak Lawn Estate Sale CAIT’S® Estate Sales & Emporium 
UID:1776723614
STREET-ADDRESS:See website
POSTAL-CODE:60453
LOCALITY:Oak Lawn
REGION:ABBREV=IL
COUNTRY:ABBREV=US;ABBREV=USA:United States
URL;TYPE=Event Listing:https://estatesales.org/estate-sales/il/oak-lawn/60453/caits-oak-lawn-estate-sale-2436176
PRIORITY:1
CLASS:PUBLIC
SEQUENCE:0
STATUS:CONFIRMED
TRANSP:OPAQUE
END:VEVENT
END:VCALENDAR
