BEGIN:VCALENDAR
VERSION:2.0
METHOD:PUBLISH
BEGIN:VEVENT
DTSTART:20260522T140000Z
DTEND:20260523T190000Z
LOCATION:Greenville, KY 42345 (Full address will be shown on Tue, May 19 7:00pm)
TRANSP: OPAQUE
SEQUENCE:0
UID:
DTSTAMP:20260424T145823Z
SUMMARY:Vintage Muscle Cars, tools, more!
DESCRIPTION:Vintage Muscle Cars, tools, more! Above and Beyond Estate Sales, llc. 
UID:1777064303
STREET-ADDRESS:See website
POSTAL-CODE:42345
LOCALITY:Greenville
REGION:ABBREV=KY
COUNTRY:ABBREV=US;ABBREV=USA:United States
URL;TYPE=Event Listing:https://estatesales.org/estate-sales/ky/greenville/42345/vintage-muscle-cars-tools-more-2437103
PRIORITY:1
CLASS:PUBLIC
SEQUENCE:0
STATUS:CONFIRMED
TRANSP:OPAQUE
END:VEVENT
END:VCALENDAR
