BEGIN:VCALENDAR
VERSION:2.0
METHOD:PUBLISH
BEGIN:VEVENT
DTSTART:20250522T140000Z
DTEND:20250523T190000Z
LOCATION:Chester, NY 10918
TRANSP: OPAQUE
SEQUENCE:0
UID:
DTSTAMP:20260420T140905Z
SUMMARY:Estate Tag Sale in Historic 18th Century Homestead, Chester, NY
DESCRIPTION:Estate Tag Sale in Historic 18th Century Homestead, Chester, NY Hudson Valley Auctioneers 
UID:1776715745
STREET-ADDRESS:See website
POSTAL-CODE:10918
LOCALITY:Chester
REGION:ABBREV=NY
COUNTRY:ABBREV=US;ABBREV=USA:United States
URL;TYPE=Event Listing:https://estatesales.org/estate-sales/ny/chester/10918/estate-tag-sale-in-historic-2378997
PRIORITY:1
CLASS:PUBLIC
SEQUENCE:0
STATUS:CONFIRMED
TRANSP:OPAQUE
END:VEVENT
END:VCALENDAR
