BEGIN:VCALENDAR
VERSION:2.0
METHOD:PUBLISH
BEGIN:VEVENT
DTSTART:20250522T170000Z
DTEND:20250524T160000Z
LOCATION:Sun City Center, FL 33573
TRANSP: OPAQUE
SEQUENCE:0
UID:
DTSTAMP:20260422T045938Z
SUMMARY:Sunshine Estate Liquidators presents a designers’ home in Sun City Center
DESCRIPTION:Sunshine Estate Liquidators presents a designers’ home in Sun City Center Sunshine Estate Liquidators 
UID:1776855578
STREET-ADDRESS:See website
POSTAL-CODE:33573
LOCALITY:Sun City Center
REGION:ABBREV=FL
COUNTRY:ABBREV=US;ABBREV=USA:United States
URL;TYPE=Event Listing:https://estatesales.org/estate-sales/fl/sun-city-center/33573/sunshine-estate-liquidators-presents-a-2379156
PRIORITY:1
CLASS:PUBLIC
SEQUENCE:0
STATUS:CONFIRMED
TRANSP:OPAQUE
END:VEVENT
END:VCALENDAR
