BEGIN:VCALENDAR
VERSION:2.0
METHOD:PUBLISH
BEGIN:VEVENT
DTSTART:20240522T130000Z
DTEND:20240525T190000Z
LOCATION:Wayne, NJ 07470
TRANSP: OPAQUE
SEQUENCE:0
UID:
DTSTAMP:20260423T144828Z
SUMMARY:Town & Country Estate Sale
DESCRIPTION:Town & Country Estate Sale Town & Country Estate & Moving Sales 
UID:1776977308
STREET-ADDRESS:See website
POSTAL-CODE:07470
LOCALITY:Wayne
REGION:ABBREV=NJ
COUNTRY:ABBREV=US;ABBREV=USA:United States
URL;TYPE=Event Listing:https://estatesales.org/estate-sales/nj/wayne-/07470/town-country-estate-sale-2316612
PRIORITY:1
CLASS:PUBLIC
SEQUENCE:0
STATUS:CONFIRMED
TRANSP:OPAQUE
END:VEVENT
END:VCALENDAR
