BEGIN:VCALENDAR
VERSION:2.0
METHOD:PUBLISH
BEGIN:VEVENT
DTSTART:20220522T160000Z
DTEND:20220522T230000Z
LOCATION:Sacramento, CA 95821
TRANSP: OPAQUE
SEQUENCE:0
UID:
DTSTAMP:20260420T063556Z
SUMMARY:Wonderful One Day Sale Sunday
DESCRIPTION:Wonderful One Day Sale Sunday Sacramento Estate Sales Services 
UID:1776688556
STREET-ADDRESS:See website
POSTAL-CODE:95821
LOCALITY:Sacramento
REGION:ABBREV=CA
COUNTRY:ABBREV=US;ABBREV=USA:United States
URL;TYPE=Event Listing:https://estatesales.org/estate-sales/ca/sacramento/95821/wonderful-one-day-sale-sunday-2044141
PRIORITY:1
CLASS:PUBLIC
SEQUENCE:0
STATUS:CONFIRMED
TRANSP:OPAQUE
END:VEVENT
END:VCALENDAR
