BEGIN:VCALENDAR
VERSION:2.0
METHOD:PUBLISH
BEGIN:VEVENT
DTSTART:20210522T120000Z
DTEND:20210522T180000Z
LOCATION:Leechburg, PA 15656
TRANSP: OPAQUE
SEQUENCE:0
UID:
DTSTAMP:20260419T082708Z
SUMMARY:Estate Sale Leechburg Pa
DESCRIPTION:Estate Sale Leechburg Pa Williams & Barron Estate Services LLC 
UID:1776608828
STREET-ADDRESS:See website
POSTAL-CODE:15656
LOCALITY:Leechburg
REGION:ABBREV=PA
COUNTRY:ABBREV=US;ABBREV=USA:United States
URL;TYPE=Event Listing:https://estatesales.org/estate-sales/pa/leechburg/15656/estate-sale-leechburg-pa-1906643
PRIORITY:1
CLASS:PUBLIC
SEQUENCE:0
STATUS:CONFIRMED
TRANSP:OPAQUE
END:VEVENT
END:VCALENDAR
