BEGIN:VCALENDAR
VERSION:2.0
METHOD:PUBLISH
BEGIN:VEVENT
DTSTART:20260521T130000Z
DTEND:20260523T190000Z
LOCATION:Macclenny, FL 32063 (Full address will be shown on Wed, May 20 12:00am)
TRANSP: OPAQUE
SEQUENCE:0
UID:
DTSTAMP:20260421T014052Z
SUMMARY:Finders Keepers Estate Sales
DESCRIPTION:Finders Keepers Estate Sales Finders Keepers Estate Sales 
UID:1776757252
STREET-ADDRESS:See website
POSTAL-CODE:32063
LOCALITY:Macclenny
REGION:ABBREV=FL
COUNTRY:ABBREV=US;ABBREV=USA:United States
URL;TYPE=Event Listing:https://estatesales.org/estate-sales/fl/macclenny/32063/finders-keepers-estate-sales-2436271
PRIORITY:1
CLASS:PUBLIC
SEQUENCE:0
STATUS:CONFIRMED
TRANSP:OPAQUE
END:VEVENT
END:VCALENDAR
