BEGIN:VCALENDAR
VERSION:2.0
METHOD:PUBLISH
BEGIN:VEVENT
DTSTART:20260521T160000Z
DTEND:20260523T200000Z
LOCATION:Long Beach, CA 90807 (Full address will be shown on Thu, May 21 6:00am)
TRANSP: OPAQUE
SEQUENCE:0
UID:
DTSTAMP:20260423T195630Z
SUMMARY:Grasons of Long Beach Metro 3 Day Estate Sale in Long Beach
DESCRIPTION:Grasons of Long Beach Metro 3 Day Estate Sale in Long Beach Grasons Co Long Beach Metro  
UID:1776995790
STREET-ADDRESS:See website
POSTAL-CODE:90807
LOCALITY:Long Beach
REGION:ABBREV=CA
COUNTRY:ABBREV=US;ABBREV=USA:United States
URL;TYPE=Event Listing:https://estatesales.org/estate-sales/ca/long-beach/90807/grasons-of-long-beach-metro-2436602
PRIORITY:1
CLASS:PUBLIC
SEQUENCE:0
STATUS:CONFIRMED
TRANSP:OPAQUE
END:VEVENT
END:VCALENDAR
