BEGIN:VCALENDAR
VERSION:2.0
METHOD:PUBLISH
BEGIN:VEVENT
DTSTART:20260521T160000Z
DTEND:20260523T200000Z
LOCATION:San Juan Capistrano, CA 92675 (Full address will be shown on Thu, May 21 6:00am)
TRANSP: OPAQUE
SEQUENCE:0
UID:
DTSTAMP:20260420T042806Z
SUMMARY:Grasons Co Elite of South OC 3 Day Estate Sale in San Juan Capistrano
DESCRIPTION:Grasons Co Elite of South OC 3 Day Estate Sale in San Juan Capistrano Grasons Co of South Orange County 
UID:1776680886
STREET-ADDRESS:See website
POSTAL-CODE:92675
LOCALITY:San Juan Capistrano
REGION:ABBREV=CA
COUNTRY:ABBREV=US;ABBREV=USA:United States
URL;TYPE=Event Listing:https://estatesales.org/estate-sales/ca/san-juan-capistrano/92675/grasons-co-elite-of-south-2427178
PRIORITY:1
CLASS:PUBLIC
SEQUENCE:0
STATUS:CONFIRMED
TRANSP:OPAQUE
END:VEVENT
END:VCALENDAR
