BEGIN:VCALENDAR
VERSION:2.0
METHOD:PUBLISH
BEGIN:VEVENT
DTSTART:20220521T133000Z
DTEND:20220521T190000Z
LOCATION:East Meadow, NY 11554
TRANSP: OPAQUE
SEQUENCE:0
UID:
DTSTAMP:20260423T083540Z
SUMMARY:ARTIFACTS ESTATE SALE SATURDAY MAY 21 ONLY- STERLING,ANTIQUES,JEWELRY,ART MORE
DESCRIPTION:ARTIFACTS ESTATE SALE SATURDAY MAY 21 ONLY- STERLING,ANTIQUES,JEWELRY,ART MORE Artifacts Liquidators INc 
UID:1776954940
STREET-ADDRESS:See website
POSTAL-CODE:11554
LOCALITY:East Meadow
REGION:ABBREV=NY
COUNTRY:ABBREV=US;ABBREV=USA:United States
URL;TYPE=Event Listing:https://estatesales.org/estate-sales/ny/east-meadow/11554/artifacts-estate-sale-saturday-may-2041475
PRIORITY:1
CLASS:PUBLIC
SEQUENCE:0
STATUS:CONFIRMED
TRANSP:OPAQUE
END:VEVENT
END:VCALENDAR
