BEGIN:VCALENDAR
VERSION:2.0
METHOD:PUBLISH
BEGIN:VEVENT
DTSTART:20200521T140000Z
DTEND:20200524T190000Z
LOCATION:Streetman, TX 75859
TRANSP: OPAQUE
SEQUENCE:0
UID:
DTSTAMP:20260424T215844Z
SUMMARY:Memorial Day Weekend Estate Sale on Richland Chambers Lake, Wills Point Estate Sale Part 2
DESCRIPTION:Memorial Day Weekend Estate Sale on Richland Chambers Lake, Wills Point Estate Sale Part 2 Lakeside Estate Sales, CGL LLC. 
UID:1777089524
STREET-ADDRESS:See website
POSTAL-CODE:75859
LOCALITY:Streetman
REGION:ABBREV=TX
COUNTRY:ABBREV=US;ABBREV=USA:United States
URL;TYPE=Event Listing:https://estatesales.org/estate-sales/tx/streetman/75859/memorial-day-weekend-estate-sale-1783795
PRIORITY:1
CLASS:PUBLIC
SEQUENCE:0
STATUS:CONFIRMED
TRANSP:OPAQUE
END:VEVENT
END:VCALENDAR
