BEGIN:VCALENDAR
VERSION:2.0
METHOD:PUBLISH
BEGIN:VEVENT
DTSTART:20170521T160000Z
DTEND:20170521T190000Z
LOCATION:Potomac, MD 20854
TRANSP: OPAQUE
SEQUENCE:0
UID:
DTSTAMP:20260424T132842Z
SUMMARY:PRISTINE POTOMAC PART 2
DESCRIPTION:PRISTINE POTOMAC PART 2 Great Estate Solutions 
UID:1777058922
STREET-ADDRESS:See website
POSTAL-CODE:20854
LOCALITY:Potomac
REGION:ABBREV=MD
COUNTRY:ABBREV=US;ABBREV=USA:United States
URL;TYPE=Event Listing:https://estatesales.org/estate-sales/md/potomac/20854/pristine-potomac-part-2-1207919
PRIORITY:1
CLASS:PUBLIC
SEQUENCE:0
STATUS:CONFIRMED
TRANSP:OPAQUE
END:VEVENT
END:VCALENDAR
