BEGIN:VCALENDAR
VERSION:2.0
METHOD:PUBLISH
BEGIN:VEVENT
DTSTART:20260520T160000Z
DTEND:20260523T220000Z
LOCATION:Denver, CO 80206 (Full address will be shown on Wed, May 20 6:00am)
TRANSP: OPAQUE
SEQUENCE:0
UID:
DTSTAMP:20260422T175823Z
SUMMARY:Collectors Dream Sale!
DESCRIPTION:Collectors Dream Sale! A Prestige Estate Services Company 
UID:1776902303
STREET-ADDRESS:See website
POSTAL-CODE:80206
LOCALITY:Denver
REGION:ABBREV=CO
COUNTRY:ABBREV=US;ABBREV=USA:United States
URL;TYPE=Event Listing:https://estatesales.org/estate-sales/co/denver/80206/collectors-dream-sale-2436677
PRIORITY:1
CLASS:PUBLIC
SEQUENCE:0
STATUS:CONFIRMED
TRANSP:OPAQUE
END:VEVENT
END:VCALENDAR
