BEGIN:VCALENDAR
VERSION:2.0
METHOD:PUBLISH
BEGIN:VEVENT
DTSTART:20230520T160000Z
DTEND:20230521T210000Z
LOCATION:Calabasas, CA 91302
TRANSP: OPAQUE
SEQUENCE:0
UID:
DTSTAMP:20260420T044047Z
SUMMARY:Discount Sunday CALABASAS ESTATE SALE (FULL HOUSE) 
DESCRIPTION:Discount Sunday CALABASAS ESTATE SALE (FULL HOUSE)  Hidden Treasure Estate Sales 
UID:1776681647
STREET-ADDRESS:See website
POSTAL-CODE:91302
LOCALITY:Calabasas
REGION:ABBREV=CA
COUNTRY:ABBREV=US;ABBREV=USA:United States
URL;TYPE=Event Listing:https://estatesales.org/estate-sales/ca/calabasas/91302/discount-sunday-calabasas-estate-sale-2181711
PRIORITY:1
CLASS:PUBLIC
SEQUENCE:0
STATUS:CONFIRMED
TRANSP:OPAQUE
END:VEVENT
END:VCALENDAR
