BEGIN:VCALENDAR
VERSION:2.0
METHOD:PUBLISH
BEGIN:VEVENT
DTSTART:20190520T150000Z
DTEND:20190522T190000Z
LOCATION:Overland Park, KS 66204
TRANSP: OPAQUE
SEQUENCE:0
UID:
DTSTAMP:20260419T065859Z
SUMMARY:Overland Park FULL by Caring Transitions KC 
DESCRIPTION:Overland Park FULL by Caring Transitions KC  Caring Transitions Kansas City 
UID:1776603539
STREET-ADDRESS:See website
POSTAL-CODE:66204
LOCALITY:Overland Park
REGION:ABBREV=KS
COUNTRY:ABBREV=US;ABBREV=USA:United States
URL;TYPE=Event Listing:https://estatesales.org/estate-sales/ks/overland-park-/66204/overland-park-full-by-caring-1663261
PRIORITY:1
CLASS:PUBLIC
SEQUENCE:0
STATUS:CONFIRMED
TRANSP:OPAQUE
END:VEVENT
END:VCALENDAR
