BEGIN:VCALENDAR
VERSION:2.0
METHOD:PUBLISH
BEGIN:VEVENT
DTSTART:20170520T140000Z
DTEND:20170520T200000Z
LOCATION:Naples, FL 34105
TRANSP: OPAQUE
SEQUENCE:0
UID:
DTSTAMP:20260425T162227Z
SUMMARY:WELCOME TO THE 1 DAY NAPLES SALE
DESCRIPTION:WELCOME TO THE 1 DAY NAPLES SALE A PRESTIGE ESTATE SERVICES National Company 
UID:1777155747
STREET-ADDRESS:See website
POSTAL-CODE:34105
LOCALITY:Naples
REGION:ABBREV=FL
COUNTRY:ABBREV=US;ABBREV=USA:United States
URL;TYPE=Event Listing:https://estatesales.org/estate-sales/fl/naples/34105/welcome-to-the-1-day-1164161
PRIORITY:1
CLASS:PUBLIC
SEQUENCE:0
STATUS:CONFIRMED
TRANSP:OPAQUE
END:VEVENT
END:VCALENDAR
