BEGIN:VCALENDAR
VERSION:2.0
METHOD:PUBLISH
BEGIN:VEVENT
DTSTART:20140521T000000Z
DTEND:20140523T020000Z
LOCATION:Chesapeake, VA 23322
TRANSP: OPAQUE
SEQUENCE:0
UID:
DTSTAMP:20260424T115815Z
SUMMARY:Collectibles and Personal Property On-Line Auction NOW!
DESCRIPTION:Collectibles and Personal Property On-Line Auction NOW! United Country-A.B. Cole & Associates 
UID:1777053495
STREET-ADDRESS:See website
POSTAL-CODE:23322
LOCALITY:Chesapeake
REGION:ABBREV=VA
COUNTRY:ABBREV=US;ABBREV=USA:United States
URL;TYPE=Event Listing:https://estatesales.org/estate-sales/va/chesapeake/23322/collectibles-and-personal-property-online-388852
PRIORITY:1
CLASS:PUBLIC
SEQUENCE:0
STATUS:CONFIRMED
TRANSP:OPAQUE
END:VEVENT
END:VCALENDAR
