BEGIN:VCALENDAR
VERSION:2.0
METHOD:PUBLISH
BEGIN:VEVENT
DTSTART:20230519T160000Z
DTEND:20230520T200000Z
LOCATION:By appointment only.
TRANSP: OPAQUE
SEQUENCE:0
UID:
DTSTAMP:20260425T162054Z
SUMMARY:High End APPOINTMENT ONLY - 50% Off! Last Call!!
DESCRIPTION:High End APPOINTMENT ONLY - 50% Off! Last Call!! Meadow Lane Estate Sales 
UID:1777155654
STREET-ADDRESS:See website
POSTAL-CODE:60026
LOCALITY:Glenview
REGION:ABBREV=IL
COUNTRY:ABBREV=US;ABBREV=USA:United States
URL;TYPE=Event Listing:https://estatesales.org/estate-sales/il/glenview/60026/high-end-appointment-only-50-2183473
PRIORITY:1
CLASS:PUBLIC
SEQUENCE:0
STATUS:CONFIRMED
TRANSP:OPAQUE
END:VEVENT
END:VCALENDAR
