BEGIN:VCALENDAR
VERSION:2.0
METHOD:PUBLISH
BEGIN:VEVENT
DTSTART:20230519T130000Z
DTEND:20230520T180000Z
LOCATION:Somerset, MA 02726
TRANSP: OPAQUE
SEQUENCE:0
UID:
DTSTAMP:20260420T012553Z
SUMMARY:Somerset Estate Sale
DESCRIPTION:Somerset Estate Sale Hidden Treasures Estate Sales & Cleanouts 
UID:1776669953
STREET-ADDRESS:See website
POSTAL-CODE:02726
LOCALITY:Somerset
REGION:ABBREV=MA
COUNTRY:ABBREV=US;ABBREV=USA:United States
URL;TYPE=Event Listing:https://estatesales.org/estate-sales/ma/somerset/02726/somerset-estate-sale-2180901
PRIORITY:1
CLASS:PUBLIC
SEQUENCE:0
STATUS:CONFIRMED
TRANSP:OPAQUE
END:VEVENT
END:VCALENDAR
