BEGIN:VCALENDAR
VERSION:2.0
METHOD:PUBLISH
BEGIN:VEVENT
DTSTART:20220519T140000Z
DTEND:20220521T190000Z
LOCATION:Saint Charles, IL 60175
TRANSP: OPAQUE
SEQUENCE:0
UID:
DTSTAMP:20260425T145634Z
SUMMARY:Grasons Co of NW Chicagoland Saint Charles spectacular estate sale (Lots of tools)
DESCRIPTION:Grasons Co of NW Chicagoland Saint Charles spectacular estate sale (Lots of tools) Grasons Co of NW Chicagoland 
UID:1777150594
STREET-ADDRESS:See website
POSTAL-CODE:60175
LOCALITY:Saint Charles
REGION:ABBREV=IL
COUNTRY:ABBREV=US;ABBREV=USA:United States
URL;TYPE=Event Listing:https://estatesales.org/estate-sales/il/saint-charles/60175/grasons-co-of-nw-chicagoland-2039629
PRIORITY:1
CLASS:PUBLIC
SEQUENCE:0
STATUS:CONFIRMED
TRANSP:OPAQUE
END:VEVENT
END:VCALENDAR
