BEGIN:VCALENDAR
VERSION:2.0
METHOD:PUBLISH
BEGIN:VEVENT
DTSTART:20240518T150000Z
DTEND:20240519T200000Z
LOCATION:Morton Grove, IL 60053
TRANSP: OPAQUE
SEQUENCE:0
UID:
DTSTAMP:20260425T162831Z
SUMMARY:Mid Century Time Capsule with Gold and Vintage Jewelry
DESCRIPTION:Mid Century Time Capsule with Gold and Vintage Jewelry Meadow Lane Estate Sales 
UID:1777156111
STREET-ADDRESS:See website
POSTAL-CODE:60053
LOCALITY:Morton Grove
REGION:ABBREV=IL
COUNTRY:ABBREV=US;ABBREV=USA:United States
URL;TYPE=Event Listing:https://estatesales.org/estate-sales/il/morton-grove/60053/mid-century-time-capsule-with-2315758
PRIORITY:1
CLASS:PUBLIC
SEQUENCE:0
STATUS:CONFIRMED
TRANSP:OPAQUE
END:VEVENT
END:VCALENDAR
