BEGIN:VCALENDAR
VERSION:2.0
METHOD:PUBLISH
BEGIN:VEVENT
DTSTART:20240518T150000Z
DTEND:20240519T220000Z
LOCATION:Tuttle, OK 73089
TRANSP: OPAQUE
SEQUENCE:0
UID:
DTSTAMP:20260425T194941Z
SUMMARY:Precious Possessions Estate Sale in Tuttle! Beautiful Home with Large Shop Building! Collectible Knives, Collectible Dolls, Large Assortment of Boy Scout Memorabilia!
DESCRIPTION:Precious Possessions Estate Sale in Tuttle! Beautiful Home with Large Shop Building! Collectible Knives, Collectible Dolls, Large Assortment of Boy Scout Memorabilia! Precious Possessions Estate Sales 
UID:1777168181
STREET-ADDRESS:See website
POSTAL-CODE:73089
LOCALITY:Tuttle
REGION:ABBREV=OK
COUNTRY:ABBREV=US;ABBREV=USA:United States
URL;TYPE=Event Listing:https://estatesales.org/estate-sales/ok/tuttle/73089/precious-possessions-estate-sale-in-2315716
PRIORITY:1
CLASS:PUBLIC
SEQUENCE:0
STATUS:CONFIRMED
TRANSP:OPAQUE
END:VEVENT
END:VCALENDAR
