BEGIN:VCALENDAR
VERSION:2.0
METHOD:PUBLISH
BEGIN:VEVENT
DTSTART:20240518T160000Z
DTEND:20240519T223000Z
LOCATION:Malibu, CA 90265
TRANSP: OPAQUE
SEQUENCE:0
UID:
DTSTAMP:20260420T044102Z
SUMMARY:DISCOUNT SUNDAY MALIBU ESTATE LIQUIDATION SALE ( HONEY! STOP THE CAR)
DESCRIPTION:DISCOUNT SUNDAY MALIBU ESTATE LIQUIDATION SALE ( HONEY! STOP THE CAR) Hidden Treasure Estate Sales 
UID:1776681662
STREET-ADDRESS:See website
POSTAL-CODE:90265
LOCALITY:Malibu
REGION:ABBREV=CA
COUNTRY:ABBREV=US;ABBREV=USA:United States
URL;TYPE=Event Listing:https://estatesales.org/estate-sales/ca/malibu/90265/discount-sunday-malibu-estate-liquidation-2314758
PRIORITY:1
CLASS:PUBLIC
SEQUENCE:0
STATUS:CONFIRMED
TRANSP:OPAQUE
END:VEVENT
END:VCALENDAR
